BEGIN:VCALENDAR
VERSION:2.0
PRODID:-//Atma Bhakti Center - ECPv6.15.3//NONSGML v1.0//EN
CALSCALE:GREGORIAN
METHOD:PUBLISH
X-WR-CALNAME:Atma Bhakti Center
X-ORIGINAL-URL:https://atmabhakticenter.com
X-WR-CALDESC:Events for Atma Bhakti Center
REFRESH-INTERVAL;VALUE=DURATION:PT1H
X-Robots-Tag:noindex
X-PUBLISHED-TTL:PT1H
BEGIN:VTIMEZONE
TZID:America/Chicago
BEGIN:DAYLIGHT
TZOFFSETFROM:-0600
TZOFFSETTO:-0500
TZNAME:CDT
DTSTART:20230312T080000
END:DAYLIGHT
BEGIN:STANDARD
TZOFFSETFROM:-0500
TZOFFSETTO:-0600
TZNAME:CST
DTSTART:20231105T070000
END:STANDARD
END:VTIMEZONE
BEGIN:VEVENT
DTSTART;TZID=America/Chicago:20230318T110000
DTEND;TZID=America/Chicago:20230318T130000
DTSTAMP:20260423T172258
CREATED:20230301T212042Z
LAST-MODIFIED:20230628T024325Z
UID:647-1679137200-1679144400@atmabhakticenter.com
SUMMARY:Ayurveda Summer Healing Recipe with Rasakeli
DESCRIPTION:This workshop will include the cooking skills\, ideas\, presentation\, healing spices benefits and plant based ayurvedic lunch.  We will introduce recipes which are good for summer as per Ayurveda. \nRegister at https://atmabhakticenter.com/cooking-classes/ \nClasses will be on \nSaturday July 1st \nSaturday July 8th \nSaturday July 15th
URL:https://atmabhakticenter.com/event/ayurveda-spring-detox-with-rasakeli/
LOCATION:Atma Bhakti Center\, 6315 Lindlsey Ave\, Dallas\, TX\, 75223\, United States
ATTACH;FMTTYPE=image/jpeg:https://atmabhakticenter.com/wp-content/uploads/2023/03/Rasakeli_1.jpg
ORGANIZER;CN="Atma Bhakti - Cooking":MAILTO:rasakelirns@gmail.com
END:VEVENT
END:VCALENDAR