BEGIN:VCALENDAR
VERSION:2.0
PRODID:-//Atma Bhakti Center - ECPv6.15.3//NONSGML v1.0//EN
CALSCALE:GREGORIAN
METHOD:PUBLISH
X-ORIGINAL-URL:https://atmabhakticenter.com
X-WR-CALDESC:Events for Atma Bhakti Center
REFRESH-INTERVAL;VALUE=DURATION:PT1H
X-Robots-Tag:noindex
X-PUBLISHED-TTL:PT1H
BEGIN:VTIMEZONE
TZID:America/Chicago
BEGIN:DAYLIGHT
TZOFFSETFROM:-0600
TZOFFSETTO:-0500
TZNAME:CDT
DTSTART:20240310T080000
END:DAYLIGHT
BEGIN:STANDARD
TZOFFSETFROM:-0500
TZOFFSETTO:-0600
TZNAME:CST
DTSTART:20241103T070000
END:STANDARD
END:VTIMEZONE
BEGIN:VEVENT
DTSTART;TZID=America/Chicago:20241123T093000
DTEND;TZID=America/Chicago:20241123T103000
DTSTAMP:20260423T172400
CREATED:20241120T231820Z
LAST-MODIFIED:20241121T000155Z
UID:903-1732354200-1732357800@atmabhakticenter.com
SUMMARY:Gentle Yoga with Mara
DESCRIPTION:Gentle Yoga is a passive practice towards relaxation. Simple and gentle positions are created over and around the softness of pillows\, blankets and other props. These positions can be held for 5-10 minutes\, so that time and relaxed breathing can infiltrate the deeper levels of our senses and organs. Such a pampering practice gives body and mind rest from doing and thinking\, allowing muscle tension to loosen and stretch. One feels refreshed and renewed\, promoting restful sleep.
URL:https://atmabhakticenter.com/event/gentle-yoga-with-mara/
LOCATION:TX
CATEGORIES:Yoga
ATTACH;FMTTYPE=image/jpeg:https://atmabhakticenter.com/wp-content/uploads/2020/07/senior-women-doing-mandukasana-pose-PRDG4SD-scaled.jpg
ORGANIZER;CN="Atma Bhakti Center":MAILTO:info@atmabhakticenter.com
END:VEVENT
BEGIN:VEVENT
DTSTART;TZID=America/Chicago:20240713T104500
DTEND;TZID=America/Chicago:20240713T130000
DTSTAMP:20260423T172400
CREATED:20230129T154727Z
LAST-MODIFIED:20240824T155048Z
UID:617-1720867500-1720875600@atmabhakticenter.com
SUMMARY:Ayurvedic Cooking /w Rasakeli (registration required)
DESCRIPTION:Featuring cooking that follows the principles of Ayurveda and at the same time provides multitudes of options to cater the offerings to your palette and lifestyles. We will explore our body types (doshas) and various seasonal aspects to create delectable menus with spices and vegetables that suit you and the season! Open to everyone\, Lunch provided from what we make! \nRegister now at https://atmabhakticenter.com/cooking-classes/ 
URL:https://atmabhakticenter.com/event/ayurvedic-cooking-with-rasakeli/
LOCATION:Atma Bhakti Center\, 6315 Lindlsey Ave\, Dallas\, TX\, 75223\, United States
CATEGORIES:AyurvedicCooking
ATTACH;FMTTYPE=image/jpeg:https://atmabhakticenter.com/wp-content/uploads/2021/10/Indian-Dal-1-scaled.jpg
ORGANIZER;CN="Atma Bhakti - Cooking":MAILTO:rasakelirns@gmail.com
END:VEVENT
END:VCALENDAR