BEGIN:VCALENDAR
VERSION:2.0
PRODID:-//Atma Bhakti Center - ECPv6.15.3//NONSGML v1.0//EN
CALSCALE:GREGORIAN
METHOD:PUBLISH
X-WR-CALNAME:Atma Bhakti Center
X-ORIGINAL-URL:https://atmabhakticenter.com
X-WR-CALDESC:Events for Atma Bhakti Center
REFRESH-INTERVAL;VALUE=DURATION:PT1H
X-Robots-Tag:noindex
X-PUBLISHED-TTL:PT1H
BEGIN:VTIMEZONE
TZID:America/Chicago
BEGIN:DAYLIGHT
TZOFFSETFROM:-0600
TZOFFSETTO:-0500
TZNAME:CDT
DTSTART:20240310T080000
END:DAYLIGHT
BEGIN:STANDARD
TZOFFSETFROM:-0500
TZOFFSETTO:-0600
TZNAME:CST
DTSTART:20241103T070000
END:STANDARD
BEGIN:DAYLIGHT
TZOFFSETFROM:-0600
TZOFFSETTO:-0500
TZNAME:CDT
DTSTART:20250309T080000
END:DAYLIGHT
BEGIN:STANDARD
TZOFFSETFROM:-0500
TZOFFSETTO:-0600
TZNAME:CST
DTSTART:20251102T070000
END:STANDARD
END:VTIMEZONE
BEGIN:VEVENT
DTSTART;TZID=America/Chicago:20240509T190000
DTEND;TZID=America/Chicago:20240509T200000
DTSTAMP:20260423T064158
CREATED:20240506T152305Z
LAST-MODIFIED:20240824T155705Z
UID:822-1715281200-1715284800@atmabhakticenter.com
SUMMARY:Thursday Night Kirtan (RSVP)
DESCRIPTION:Meditation\, music\, wisdom and food! All as a love offering to the community. \nExplore the timeless wisdom of the Bhagavad Gita\, the original text and foundation of all Yoga sutras and forms of Yoga. Learn the science of the soul\, karma and reincarnation\, and spirit relieves us from all anxieties. \nCoupled with kirtan (mantra meditation with music) and a simple plant based meal\, this is a perfect early start to the weekend and the week. \nEveryone welcome. RSVP to rasarajdas@gmail.com \n 
URL:https://atmabhakticenter.com/event/mantra-lounge-the-abc-2-2-2-2/
LOCATION:Atma Bhakti Center\, 6315 Lindlsey Ave\, Dallas\, TX\, 75223\, United States
CATEGORIES:Mantra,Meditation
ATTACH;FMTTYPE=image/jpeg:https://atmabhakticenter.com/wp-content/uploads/2020/07/bhagavad-gita-mala-beads.jpg
ORGANIZER;CN="Atma Bhakti Center":MAILTO:info@atmabhakticenter.com
END:VEVENT
BEGIN:VEVENT
DTSTART;TZID=America/Chicago:20241123T093000
DTEND;TZID=America/Chicago:20241123T103000
DTSTAMP:20260423T064158
CREATED:20241120T231820Z
LAST-MODIFIED:20241121T000155Z
UID:903-1732354200-1732357800@atmabhakticenter.com
SUMMARY:Gentle Yoga with Mara
DESCRIPTION:Gentle Yoga is a passive practice towards relaxation. Simple and gentle positions are created over and around the softness of pillows\, blankets and other props. These positions can be held for 5-10 minutes\, so that time and relaxed breathing can infiltrate the deeper levels of our senses and organs. Such a pampering practice gives body and mind rest from doing and thinking\, allowing muscle tension to loosen and stretch. One feels refreshed and renewed\, promoting restful sleep.
URL:https://atmabhakticenter.com/event/gentle-yoga-with-mara/
LOCATION:TX
CATEGORIES:Yoga
ATTACH;FMTTYPE=image/jpeg:https://atmabhakticenter.com/wp-content/uploads/2020/07/senior-women-doing-mandukasana-pose-PRDG4SD-scaled.jpg
ORGANIZER;CN="Atma Bhakti Center":MAILTO:info@atmabhakticenter.com
END:VEVENT
BEGIN:VEVENT
DTSTART;TZID=America/Chicago:20241120T103000
DTEND;TZID=America/Chicago:20241120T113000
DTSTAMP:20260423T064158
CREATED:20241120T235420Z
LAST-MODIFIED:20241121T000024Z
UID:909-1732098600-1732102200@atmabhakticenter.com
SUMMARY:Classic Hatha Yoga with Shoby
DESCRIPTION:ShabNam “Shoby” began her yoga practice in 2001 while attending graduate school in NYC. Each Sunday she sought solace within the hustle and bustle of NYC. In 2018 she completed a four-week intense residential course in a gurukula system\, in northern India. She received her 200-hour yoga certificate in a classical Ashram setting in a small village at the base of the Himalaya. \nShe has been teaching at k-12 since fall of 2019. Her class consists of a series of sun salutations\, various asanas for overall body flexibility and body awareness. The focus is on the breath through each movement\, long hold stretches and a deep final relaxation at the end of each session. \nTo RSVP\, please email shomoshoby@gmail.com
URL:https://atmabhakticenter.com/event/classic-hatha-yoga-with-shoby/
LOCATION:TX
CATEGORIES:Yoga
ATTACH;FMTTYPE=image/jpeg:https://atmabhakticenter.com/wp-content/uploads/2021/12/Shoby1-1.jpg
ORGANIZER;CN="Atma Bhakti Center":MAILTO:info@atmabhakticenter.com
END:VEVENT
BEGIN:VEVENT
DTSTART;TZID=America/Chicago:20250520T180000
DTEND;TZID=America/Chicago:20250520T193000
DTSTAMP:20260423T064158
CREATED:20250517T155927Z
LAST-MODIFIED:20250517T160806Z
UID:937-1747764000-1747769400@atmabhakticenter.com
SUMMARY:Reiki\, Breath work and Meditation with Shoby
DESCRIPTION:Reiki\, Breath work and Meditation with Shoby\nDetails coming soon.
URL:https://atmabhakticenter.com/event/reiki-breath-work-and-meditation-with-shoby/
LOCATION:Atma Bhakti Center\, 6315 Lindlsey Ave\, Dallas\, TX\, 75223\, United States
CATEGORIES:Meditation,Reiki,Yoga
ORGANIZER;CN="Atma Bhakti Center":MAILTO:info@atmabhakticenter.com
END:VEVENT
BEGIN:VEVENT
DTSTART;TZID=America/Chicago:20241120T103000
DTEND;TZID=America/Chicago:20241120T113000
DTSTAMP:20260423T064158
CREATED:20241120T235420Z
LAST-MODIFIED:20241121T000024Z
UID:909-1732098600-1732102200@atmabhakticenter.com
SUMMARY:Classic Hatha Yoga with Shoby
DESCRIPTION:ShabNam “Shoby” began her yoga practice in 2001 while attending graduate school in NYC. Each Sunday she sought solace within the hustle and bustle of NYC. In 2018 she completed a four-week intense residential course in a gurukula system\, in northern India. She received her 200-hour yoga certificate in a classical Ashram setting in a small village at the base of the Himalaya. \nShe has been teaching at k-12 since fall of 2019. Her class consists of a series of sun salutations\, various asanas for overall body flexibility and body awareness. The focus is on the breath through each movement\, long hold stretches and a deep final relaxation at the end of each session. \nTo RSVP\, please email shomoshoby@gmail.com
URL:https://atmabhakticenter.com/event/classic-hatha-yoga-with-shoby/
LOCATION:TX
CATEGORIES:Yoga
ATTACH;FMTTYPE=image/jpeg:https://atmabhakticenter.com/wp-content/uploads/2021/12/Shoby1-1.jpg
ORGANIZER;CN="Atma Bhakti Center":MAILTO:info@atmabhakticenter.com
END:VEVENT
BEGIN:VEVENT
DTSTART;TZID=America/Chicago:20240509T190000
DTEND;TZID=America/Chicago:20240509T200000
DTSTAMP:20260423T064158
CREATED:20240506T152305Z
LAST-MODIFIED:20240824T155705Z
UID:822-1715281200-1715284800@atmabhakticenter.com
SUMMARY:Thursday Night Kirtan (RSVP)
DESCRIPTION:Meditation\, music\, wisdom and food! All as a love offering to the community. \nExplore the timeless wisdom of the Bhagavad Gita\, the original text and foundation of all Yoga sutras and forms of Yoga. Learn the science of the soul\, karma and reincarnation\, and spirit relieves us from all anxieties. \nCoupled with kirtan (mantra meditation with music) and a simple plant based meal\, this is a perfect early start to the weekend and the week. \nEveryone welcome. RSVP to rasarajdas@gmail.com \n 
URL:https://atmabhakticenter.com/event/mantra-lounge-the-abc-2-2-2-2/
LOCATION:Atma Bhakti Center\, 6315 Lindlsey Ave\, Dallas\, TX\, 75223\, United States
CATEGORIES:Mantra,Meditation
ATTACH;FMTTYPE=image/jpeg:https://atmabhakticenter.com/wp-content/uploads/2020/07/bhagavad-gita-mala-beads.jpg
ORGANIZER;CN="Atma Bhakti Center":MAILTO:info@atmabhakticenter.com
END:VEVENT
END:VCALENDAR