BEGIN:VCALENDAR
VERSION:2.0
PRODID:-//Atma Bhakti Center - ECPv6.15.3//NONSGML v1.0//EN
CALSCALE:GREGORIAN
METHOD:PUBLISH
X-WR-CALNAME:Atma Bhakti Center
X-ORIGINAL-URL:https://atmabhakticenter.com
X-WR-CALDESC:Events for Atma Bhakti Center
REFRESH-INTERVAL;VALUE=DURATION:PT1H
X-Robots-Tag:noindex
X-PUBLISHED-TTL:PT1H
BEGIN:VTIMEZONE
TZID:America/Chicago
BEGIN:DAYLIGHT
TZOFFSETFROM:-0600
TZOFFSETTO:-0500
TZNAME:CDT
DTSTART:20200308T080000
END:DAYLIGHT
BEGIN:STANDARD
TZOFFSETFROM:-0500
TZOFFSETTO:-0600
TZNAME:CST
DTSTART:20201101T070000
END:STANDARD
BEGIN:DAYLIGHT
TZOFFSETFROM:-0600
TZOFFSETTO:-0500
TZNAME:CDT
DTSTART:20210314T080000
END:DAYLIGHT
BEGIN:STANDARD
TZOFFSETFROM:-0500
TZOFFSETTO:-0600
TZNAME:CST
DTSTART:20211107T070000
END:STANDARD
BEGIN:DAYLIGHT
TZOFFSETFROM:-0600
TZOFFSETTO:-0500
TZNAME:CDT
DTSTART:20220313T080000
END:DAYLIGHT
BEGIN:STANDARD
TZOFFSETFROM:-0500
TZOFFSETTO:-0600
TZNAME:CST
DTSTART:20221106T070000
END:STANDARD
BEGIN:DAYLIGHT
TZOFFSETFROM:-0600
TZOFFSETTO:-0500
TZNAME:CDT
DTSTART:20230312T080000
END:DAYLIGHT
BEGIN:STANDARD
TZOFFSETFROM:-0500
TZOFFSETTO:-0600
TZNAME:CST
DTSTART:20231105T070000
END:STANDARD
END:VTIMEZONE
BEGIN:VEVENT
DTSTART;TZID=America/Chicago:20230313T180000
DTEND;TZID=America/Chicago:20230313T210000
DTSTAMP:20260423T190048
CREATED:20230303T042008Z
LAST-MODIFIED:20230303T042054Z
UID:650-1678730400-1678741200@atmabhakticenter.com
SUMMARY:Ikebana Flower arrangement demo - Erisson Thompson
DESCRIPTION:Master Ikebana Instructor Erisson Thompson will create ikebana sangetsu arrangements. We will also have a exhibition of arrangements. Suggested donation $10 for the flowers.  \nContact Fernanda at 214 448 0533 for information and RSVP
URL:https://atmabhakticenter.com/event/ikebana-flower-erisson-thompson/
LOCATION:Atma Bhakti Center\, 6315 Lindlsey Ave\, Dallas\, TX\, 75223\, United States
CATEGORIES:Yoga
ATTACH;FMTTYPE=image/jpeg:https://atmabhakticenter.com/wp-content/uploads/2023/03/Ikebana_flower_event.jpg
ORGANIZER;CN="Atma Bhakti Center":MAILTO:info@atmabhakticenter.com
END:VEVENT
BEGIN:VEVENT
DTSTART;TZID=America/Chicago:20200725T090000
DTEND;TZID=America/Chicago:20220725T093000
DTSTAMP:20260423T190048
CREATED:20200719T003426Z
LAST-MODIFIED:20200719T003426Z
UID:170-1595667600-1658741400@atmabhakticenter.com
SUMMARY:Mantra Meditiation
DESCRIPTION:Sacred Sound allows us to connect with the mind and the divine. The only thing that prevents us from feeling a sense of regular happiness and inspiration are negative thoughts and emotions that find space within our minds. A simple\, regular meditation practice allows us to recognize negative thoughts and emotions\, uproot them and replace them with mantra (spiritual sound vibration).
URL:https://atmabhakticenter.com/event/mantra-meditiation/
LOCATION:Online\, Dallas\, TX\, 75223\, United States
CATEGORIES:Mantra,Meditation
ORGANIZER;CN="Atma Bhakti Center":MAILTO:info@atmabhakticenter.com
END:VEVENT
END:VCALENDAR